BEGIN:VCALENDAR
VERSION:2.0
PRODID:-//Plone.org//NONSGML plone.app.event//EN
X-WR-TIMEZONE:America/Sao_Paulo
BEGIN:VEVENT
SUMMARY:XI Simpósio Internacional de Enfermagem - Saúde planetária: des
 afios e atuação crítica da enfermagem
DTSTART;VALUE=DATE:20250605
DTEND;VALUE=DATE:20250606
DTSTAMP;VALUE=DATE-TIME:20260422T042850Z
UID:af9e256c75954567836e0dacd4952bde@pbc.uem.br
CONTACT:https://sites.google.com/view/sienf2025/in%C3%ADcio
CREATED;VALUE=DATE-TIME:20250605T150007Z
LAST-MODIFIED;VALUE=DATE-TIME:20250605T175051Z
URL:https://pbc.uem.br/den/events/2025/xi-simposio-internacional-de-enferm
 agem-saude-planetaria-desafios-e-atuacao-critica-da-enfermagem
END:VEVENT
END:VCALENDAR
