BEGIN:VCALENDAR
VERSION:2.0
PRODID:-//Plone.org//NONSGML plone.app.event//EN
X-WR-TIMEZONE:America/Sao_Paulo
BEGIN:VEVENT
SUMMARY:Maio Amarelo 2025 - "Mobilidade Humana\, Responsabilidade Humana"
DTSTART;TZID=America/Sao_Paulo;VALUE=DATE-TIME:20250530T110000
DTEND;TZID=America/Sao_Paulo;VALUE=DATE-TIME:20250530T140000
DTSTAMP;VALUE=DATE-TIME:20260422T063437Z
UID:84acc955be354f0284a6f343f434ae3e@pbc.uem.br
CREATED;VALUE=DATE-TIME:20250603T121118Z
LAST-MODIFIED;VALUE=DATE-TIME:20250605T175051Z
URL:https://pbc.uem.br/den/events/2025/maio-amarelo-mobilidade-humana-resp
 onsabilidade-humana
END:VEVENT
BEGIN:VTIMEZONE
TZID:America/Sao_Paulo
X-LIC-LOCATION:America/Sao_Paulo
BEGIN:STANDARD
DTSTART;VALUE=DATE-TIME:20190216T230000
TZNAME:-03
TZOFFSETFROM:-0200
TZOFFSETTO:-0300
END:STANDARD
END:VTIMEZONE
END:VCALENDAR
