BEGIN:VCALENDAR
VERSION:2.0
PRODID:-//Plone.org//NONSGML plone.app.event//EN
X-WR-TIMEZONE:America/Sao_Paulo
BEGIN:VEVENT
SUMMARY:X Simpósio Internacional de Enfermagem - 2024
DTSTART;VALUE=DATE:20240515
DTEND;VALUE=DATE:20240518
DTSTAMP;VALUE=DATE-TIME:20260422T124953Z
UID:446f364fdaf5485ea3e80575281e79a3@pbc.uem.br
CREATED;VALUE=DATE-TIME:20250520T193637Z
DESCRIPTION:X Simpósio Internacional de Enfermagem: Romper bolhas no mund
 o atual para resistir e o coexistir da Enfermagem.
LAST-MODIFIED;VALUE=DATE-TIME:20250605T175123Z
URL:https://pbc.uem.br/den/events/2024/x-simposio-internacional-de-enferma
 gem-2024
END:VEVENT
END:VCALENDAR
