BEGIN:VCALENDAR
VERSION:2.0
PRODID:-//Plone.org//NONSGML plone.app.event//EN
X-WR-TIMEZONE:America/Sao_Paulo
BEGIN:VEVENT
SUMMARY:I Simpósio Internacional de Enfermagem em Saúde da Criança\, Ad
 olescente e Família - SIESCAF
DTSTART;VALUE=DATE:20241030
DTEND;VALUE=DATE:20241102
DTSTAMP;VALUE=DATE-TIME:20260422T042850Z
UID:b3e887b698364a299d51f186dca24451@pbc.uem.br
CREATED;VALUE=DATE-TIME:20250520T190903Z
DESCRIPTION:I Simpósio Internacional de Enfermagem em Saúde da Criança\
 ,  Adolescente e Família - SIESCAF: (In)visibilidade do cuidado à crian
 ça\, adolescente e família em interface com a Enfermagem.
LAST-MODIFIED;VALUE=DATE-TIME:20250605T175123Z
URL:https://pbc.uem.br/den/events/2024/i-simposio-internacional-de-enferma
 gem-em-saude-da-crianca-adolescente-e-familia-siescaf
END:VEVENT
END:VCALENDAR
