BEGIN:VCALENDAR
VERSION:2.0
PRODID:-//Plone.org//NONSGML plone.app.event//EN
X-WR-TIMEZONE:America/Sao_Paulo
BEGIN:VEVENT
SUMMARY:Conhecendo o sistema de saúde da Angola\, Colômbia e Peru.
DTSTART;VALUE=DATE:20241120
DTEND;VALUE=DATE:20241121
DTSTAMP;VALUE=DATE-TIME:20260422T073002Z
UID:0e162a658ab841368b620cc95db34df5@pbc.uem.br
CREATED;VALUE=DATE-TIME:20250520T191149Z
LAST-MODIFIED;VALUE=DATE-TIME:20250605T175123Z
URL:https://pbc.uem.br/den/events/2024/conhecendo-o-sistema-de-saude-da-an
 gola-colombia-e-peru
END:VEVENT
END:VCALENDAR
