BEGIN:VCALENDAR
VERSION:2.0
PRODID:-//Plone.org//NONSGML plone.app.event//EN
X-WR-TIMEZONE:America/Sao_Paulo
BEGIN:VEVENT
SUMMARY:1° Congresso Internacional de Segurança e Saúde no Trânsito CI
 SSTRAN - 2024
DTSTART;VALUE=DATE:20240924
DTEND;VALUE=DATE:20240926
DTSTAMP;VALUE=DATE-TIME:20260422T205307Z
UID:215f9a7852054e2cbd44d108c973c35a@pbc.uem.br
CREATED;VALUE=DATE-TIME:20250521T141437Z
LAST-MODIFIED;VALUE=DATE-TIME:20250605T175123Z
LOCATION:Auditório da Biblioteca Central (BCE)
URL:https://pbc.uem.br/den/events/2024/1deg-congresso-internacional-de-seg
 uranca-e-saude-no-transito-cisstran-2024
END:VEVENT
END:VCALENDAR
