BEGIN:VCALENDAR
VERSION:2.0
PRODID:-//Plone.org//NONSGML plone.app.event//EN
X-WR-TIMEZONE:America/Sao_Paulo
BEGIN:VEVENT
SUMMARY:VIII Simpósio Internacional de Enfermagem - Perspectivas para a e
 nfermagem: o que aprendemos com a pandemia da covid-19? - 2022
DTSTART;TZID=America/Sao_Paulo;VALUE=DATE-TIME:20220510T080000
DTEND;TZID=America/Sao_Paulo;VALUE=DATE-TIME:20220512T090000
DTSTAMP;VALUE=DATE-TIME:20260422T035937Z
UID:57bcc491e7644b7fa2c4d2496fc77d40@pbc.uem.br
CREATED;VALUE=DATE-TIME:20240412T111449Z
LAST-MODIFIED;VALUE=DATE-TIME:20250605T175150Z
URL:https://pbc.uem.br/den/events/2022/viii-simposio-internacional-de-enfe
 rmagem-perspectivas-para-a-enfermagem-o-que-aprendemos-com-a-pandemia-da-c
 ovid-19-2022
END:VEVENT
BEGIN:VTIMEZONE
TZID:America/Sao_Paulo
X-LIC-LOCATION:America/Sao_Paulo
BEGIN:STANDARD
DTSTART;VALUE=DATE-TIME:20190216T230000
TZNAME:-03
TZOFFSETFROM:-0200
TZOFFSETTO:-0300
END:STANDARD
END:VTIMEZONE
END:VCALENDAR
