BEGIN:VCALENDAR
VERSION:2.0
PRODID:-//Plone.org//NONSGML plone.app.event//EN
X-WR-TIMEZONE:America/Sao_Paulo
BEGIN:VEVENT
SUMMARY:Palestra Prof. Andrés Gutierrez - Universidad de Antofagasta - Ch
 ile - 2022
DTSTART;TZID=America/Sao_Paulo;VALUE=DATE-TIME:20220429T080000
DTEND;TZID=America/Sao_Paulo;VALUE=DATE-TIME:20220429T090000
DTSTAMP;VALUE=DATE-TIME:20260422T044348Z
UID:2ac7eda825194e9aa8e4654baacdfa1f@pbc.uem.br
CREATED;VALUE=DATE-TIME:20240412T111248Z
LAST-MODIFIED;VALUE=DATE-TIME:20250605T175150Z
URL:https://pbc.uem.br/den/events/2022/palestra-prof-andres-gutierrez-univ
 ersidad-de-antofagasta-chile-2022
END:VEVENT
BEGIN:VTIMEZONE
TZID:America/Sao_Paulo
X-LIC-LOCATION:America/Sao_Paulo
BEGIN:STANDARD
DTSTART;VALUE=DATE-TIME:20190216T230000
TZNAME:-03
TZOFFSETFROM:-0200
TZOFFSETTO:-0300
END:STANDARD
END:VTIMEZONE
END:VCALENDAR
