BEGIN:VCALENDAR
VERSION:2.0
PRODID:-//Plone.org//NONSGML plone.app.event//EN
X-WR-TIMEZONE:America/Sao_Paulo
BEGIN:VEVENT
SUMMARY:II Simpósio de Saúde da Mulher do Departamento de Enfermagem
DTSTART;TZID=America/Sao_Paulo;VALUE=DATE-TIME:20221006T070000
DTEND;TZID=America/Sao_Paulo;VALUE=DATE-TIME:20221006T080000
DTSTAMP;VALUE=DATE-TIME:20260422T130832Z
UID:e8b90ec5fd6a446eb34776549f360041@pbc.uem.br
CREATED;VALUE=DATE-TIME:20240412T105836Z
LAST-MODIFIED;VALUE=DATE-TIME:20250605T175150Z
URL:https://pbc.uem.br/den/events/2022/ii-simposio-de-saude-da-mulher-do-d
 epartamento-de-enfermagem
END:VEVENT
BEGIN:VTIMEZONE
TZID:America/Sao_Paulo
X-LIC-LOCATION:America/Sao_Paulo
BEGIN:STANDARD
DTSTART;VALUE=DATE-TIME:20190216T230000
TZNAME:-03
TZOFFSETFROM:-0200
TZOFFSETTO:-0300
END:STANDARD
END:VTIMEZONE
END:VCALENDAR
