BEGIN:VCALENDAR
VERSION:2.0
PRODID:-//Plone.org//NONSGML plone.app.event//EN
X-WR-TIMEZONE:America/Sao_Paulo
BEGIN:VEVENT
SUMMARY:1º Ciclo de debate em saúde mental e materno-infantil
DTSTART;TZID=America/Sao_Paulo;VALUE=DATE-TIME:20220922T080000
DTEND;TZID=America/Sao_Paulo;VALUE=DATE-TIME:20220922T090000
DTSTAMP;VALUE=DATE-TIME:20260422T034604Z
UID:5a7ddd482553464c98966b9d536251d7@pbc.uem.br
CREATED;VALUE=DATE-TIME:20240412T110824Z
LAST-MODIFIED;VALUE=DATE-TIME:20250605T174335Z
URL:https://pbc.uem.br/den/events/2022/1o-ciclo-de-debate-em-saude-mental-
 e-materno-infantil
END:VEVENT
BEGIN:VTIMEZONE
TZID:America/Sao_Paulo
X-LIC-LOCATION:America/Sao_Paulo
BEGIN:STANDARD
DTSTART;VALUE=DATE-TIME:20190216T230000
TZNAME:-03
TZOFFSETFROM:-0200
TZOFFSETTO:-0300
END:STANDARD
END:VTIMEZONE
END:VCALENDAR
